Package: derfinderHelper Version: 1.38.0 Command: /Library/Frameworks/R.framework/Resources/bin/R CMD build --keep-empty-dirs --no-resave-data derfinderHelper StartedAt: 2024-10-16 23:08:16 -0400 (Wed, 16 Oct 2024) EndedAt: 2024-10-16 23:08:37 -0400 (Wed, 16 Oct 2024) EllapsedTime: 20.5 seconds RetCode: 0 Status: OK PackageFile: derfinderHelper_1.38.0.tar.gz PackageFileSize: 309.6 KiB