Package: derfinder Version: 1.38.0 Command: /home/biocbuild/R/R-beta-2024-04-15_r86425/bin/R CMD build --keep-empty-dirs --no-resave-data derfinder StartedAt: 2024-05-08 23:51:46 -0000 (Wed, 08 May 2024) EndedAt: 2024-05-08 23:59:04 -0000 (Wed, 08 May 2024) EllapsedTime: 437.6 seconds RetCode: 0 Status: OK PackageFile: derfinder_1.38.0.tar.gz PackageFileSize: 1.416 MiB