Package: derfinder Version: 1.38.0 Command: /Library/Frameworks/R.framework/Resources/bin/R CMD build --keep-empty-dirs --no-resave-data derfinder StartedAt: 2024-10-16 23:08:10 -0400 (Wed, 16 Oct 2024) EndedAt: 2024-10-16 23:13:35 -0400 (Wed, 16 Oct 2024) EllapsedTime: 324.5 seconds RetCode: 0 Status: OK PackageFile: derfinder_1.38.0.tar.gz PackageFileSize: 2.01 MiB