Package: densvis Version: 1.14.1 Command: E:\biocbuild\bbs-3.19-bioc\R\bin\R.exe CMD INSTALL densvis StartedAt: 2024-10-16 16:07:02 -0400 (Wed, 16 Oct 2024) EndedAt: 2024-10-16 16:09:07 -0400 (Wed, 16 Oct 2024) EllapsedTime: 125.0 seconds RetCode: 0 Status: OK