Package: densvis Version: 1.14.1 Command: E:\biocbuild\bbs-3.19-bioc\R\bin\R.exe CMD check --no-multiarch --install=check:densvis.install-out.txt --library=E:\biocbuild\bbs-3.19-bioc\R\library --no-vignettes --timings densvis_1.14.1.tar.gz StartedAt: 2024-10-17 00:46:12 -0400 (Thu, 17 Oct 2024) EndedAt: 2024-10-17 00:49:53 -0400 (Thu, 17 Oct 2024) EllapsedTime: 220.9 seconds RetCode: 0 Status: OK CheckDir: densvis.Rcheck Warnings: 0