Package: densvis Version: 1.14.1 Command: rm -rf densvis.buildbin-libdir && mkdir densvis.buildbin-libdir && E:\biocbuild\bbs-3.19-bioc\R\bin\R.exe CMD INSTALL --build --library=densvis.buildbin-libdir densvis_1.14.1.tar.gz StartedAt: 2024-10-17 07:40:37 -0400 (Thu, 17 Oct 2024) EndedAt: 2024-10-17 07:41:45 -0400 (Thu, 17 Oct 2024) EllapsedTime: 68.8 seconds RetCode: 0 Status: OK PackageFile: densvis_1.14.1.zip PackageFileSize: 1021 KiB