Package: densvis Version: 1.14.0 Command: chmod a+r densvis -R && F:\biocbuild\bbs-3.19-bioc\R\bin\R.exe --arch x64 CMD build --keep-empty-dirs --no-resave-data densvis StartedAt: 2024-06-26 18:20:06 -0400 (Wed, 26 Jun 2024) EndedAt: 2024-06-26 18:22:38 -0400 (Wed, 26 Jun 2024) EllapsedTime: 152.1 seconds RetCode: 0 Status: OK PackageFile: densvis_1.14.0.tar.gz PackageFileSize: 565 KiB