Package: densvis Version: 1.14.1 Command: /home/biocbuild/bbs-3.19-bioc/R/bin/R CMD check --install=check:densvis.install-out.txt --library=/home/biocbuild/bbs-3.19-bioc/R/site-library --timings densvis_1.14.1.tar.gz StartedAt: 2024-10-16 23:41:24 -0400 (Wed, 16 Oct 2024) EndedAt: 2024-10-16 23:44:29 -0400 (Wed, 16 Oct 2024) EllapsedTime: 184.3 seconds RetCode: 0 Status: OK CheckDir: densvis.Rcheck Warnings: 0