Package: densvis Version: 1.14.0 Command: rm -rf densvis.buildbin-libdir && mkdir densvis.buildbin-libdir && /Users/biocbuild/BBS/utils/build-universal.sh densvis_1.14.0.tar.gz /Library/Frameworks/R.framework/Resources/bin/R densvis.buildbin-libdir StartedAt: 2024-06-10 00:14:53 -0400 (Mon, 10 Jun 2024) EndedAt: 2024-06-10 00:15:25 -0400 (Mon, 10 Jun 2024) EllapsedTime: 31.8 seconds RetCode: 0 Status: OK PackageFile: densvis_1.14.0.tgz PackageFileSize: 1.837 MiB