Package: densvis Version: 1.14.0 Command: /home/biocbuild/R/R-beta-2024-04-15_r86425/bin/R CMD INSTALL densvis StartedAt: 2024-05-08 20:09:36 -0000 (Wed, 08 May 2024) EndedAt: 2024-05-08 20:10:18 -0000 (Wed, 08 May 2024) EllapsedTime: 41.8 seconds RetCode: 0 Status: OK