Package: densvis Version: 1.14.0 Command: /Library/Frameworks/R.framework/Resources/bin/R CMD build --keep-empty-dirs --no-resave-data densvis StartedAt: 2024-06-09 20:32:31 -0400 (Sun, 09 Jun 2024) EndedAt: 2024-06-09 20:34:45 -0400 (Sun, 09 Jun 2024) EllapsedTime: 134.1 seconds RetCode: 0 Status: OK PackageFile: densvis_1.14.0.tar.gz PackageFileSize: 1.781 MiB