Package: densvis Version: 1.14.1 Command: /Library/Frameworks/R.framework/Resources/bin/R CMD check --install=check:densvis.install-out.txt --library=/Library/Frameworks/R.framework/Resources/library --no-vignettes --timings densvis_1.14.1.tar.gz StartedAt: 2024-10-17 19:21:50 -0400 (Thu, 17 Oct 2024) EndedAt: 2024-10-17 19:24:09 -0400 (Thu, 17 Oct 2024) EllapsedTime: 139.2 seconds RetCode: 0 Status: OK CheckDir: densvis.Rcheck Warnings: 0