Package: densvis Version: 1.14.1 Command: /Library/Frameworks/R.framework/Resources/bin/R CMD build --keep-empty-dirs --no-resave-data densvis StartedAt: 2024-10-16 23:05:59 -0400 (Wed, 16 Oct 2024) EndedAt: 2024-10-16 23:07:42 -0400 (Wed, 16 Oct 2024) EllapsedTime: 103.5 seconds RetCode: 0 Status: OK PackageFile: densvis_1.14.1.tar.gz PackageFileSize: 1.778 MiB