Package: densvis Version: 1.14.1 Command: rm -rf densvis.buildbin-libdir && mkdir densvis.buildbin-libdir && /Users/biocbuild/BBS/utils/build-universal.sh densvis_1.14.1.tar.gz /Library/Frameworks/R.framework/Resources/bin/R densvis.buildbin-libdir StartedAt: 2024-10-18 18:09:19 -0400 (Fri, 18 Oct 2024) EndedAt: 2024-10-18 18:09:48 -0400 (Fri, 18 Oct 2024) EllapsedTime: 28.7 seconds RetCode: 0 Status: OK PackageFile: densvis_1.14.1.tgz PackageFileSize: 1.83 MiB