Package: demuxmix Version: 1.6.0 Command: /home/biocbuild/bbs-3.19-bioc/R/bin/R CMD build --keep-empty-dirs --no-resave-data demuxmix StartedAt: 2024-10-16 18:09:32 -0400 (Wed, 16 Oct 2024) EndedAt: 2024-10-16 18:10:06 -0400 (Wed, 16 Oct 2024) EllapsedTime: 34.0 seconds RetCode: 0 Status: OK PackageFile: demuxmix_1.6.0.tar.gz PackageFileSize: 1.264 MiB