Package: demuxmix Version: 1.6.0 Command: /Library/Frameworks/R.framework/Resources/bin/R CMD build --keep-empty-dirs --no-resave-data demuxmix StartedAt: 2024-10-16 18:35:58 -0400 (Wed, 16 Oct 2024) EndedAt: 2024-10-16 18:37:48 -0400 (Wed, 16 Oct 2024) EllapsedTime: 110.0 seconds RetCode: 0 Status: OK PackageFile: demuxmix_1.6.0.tar.gz PackageFileSize: 1.42 MiB