Package: demuxmix Version: 1.6.0 Command: /home/biocbuild/R/R-beta-2024-04-15_r86425/bin/R CMD check --install=check:demuxmix.install-out.txt --library=/home/biocbuild/R/R-beta-2024-04-15_r86425/site-library --no-vignettes --timings demuxmix_1.6.0.tar.gz StartedAt: 2024-05-09 06:42:07 -0000 (Thu, 09 May 2024) EndedAt: 2024-05-09 06:43:20 -0000 (Thu, 09 May 2024) EllapsedTime: 73.1 seconds RetCode: 0 Status: OK CheckDir: demuxmix.Rcheck Warnings: 0