Package: demuxmix Version: 1.6.0 Command: /Library/Frameworks/R.framework/Resources/bin/R CMD INSTALL demuxmix StartedAt: 2024-06-09 15:23:50 -0400 (Sun, 09 Jun 2024) EndedAt: 2024-06-09 15:24:04 -0400 (Sun, 09 Jun 2024) EllapsedTime: 14.1 seconds RetCode: 0 Status: OK