Package: demuxmix Version: 1.6.0 Command: /Library/Frameworks/R.framework/Resources/bin/R CMD INSTALL demuxmix StartedAt: 2024-10-16 16:03:33 -0400 (Wed, 16 Oct 2024) EndedAt: 2024-10-16 16:03:46 -0400 (Wed, 16 Oct 2024) EllapsedTime: 13.3 seconds RetCode: 0 Status: OK