Package: demuxSNP Version: 1.2.0 Command: /home/biocbuild/bbs-3.19-bioc/R/bin/R CMD check --install=check:demuxSNP.install-out.txt --library=/home/biocbuild/bbs-3.19-bioc/R/site-library --timings demuxSNP_1.2.0.tar.gz StartedAt: 2024-10-16 23:41:05 -0400 (Wed, 16 Oct 2024) EndedAt: 2024-10-16 23:51:23 -0400 (Wed, 16 Oct 2024) EllapsedTime: 618.1 seconds RetCode: 0 Status: OK CheckDir: demuxSNP.Rcheck Warnings: 0