Package: demuxSNP Version: 1.2.0 Command: /Library/Frameworks/R.framework/Resources/bin/R CMD check --install=check:demuxSNP.install-out.txt --library=/Library/Frameworks/R.framework/Resources/library --no-vignettes --timings demuxSNP_1.2.0.tar.gz StartedAt: 2024-06-09 19:55:47 -0400 (Sun, 09 Jun 2024) EndedAt: 2024-06-09 20:04:55 -0400 (Sun, 09 Jun 2024) EllapsedTime: 548.0 seconds RetCode: 0 Status: OK CheckDir: demuxSNP.Rcheck Warnings: 0