Package: demuxSNP Version: 1.2.0 Command: rm -rf demuxSNP.buildbin-libdir && mkdir demuxSNP.buildbin-libdir && /Users/biocbuild/BBS/utils/build-universal.sh demuxSNP_1.2.0.tar.gz /Library/Frameworks/R.framework/Resources/bin/R demuxSNP.buildbin-libdir StartedAt: 2024-06-10 00:14:50 -0400 (Mon, 10 Jun 2024) EndedAt: 2024-06-10 00:15:51 -0400 (Mon, 10 Jun 2024) EllapsedTime: 61.0 seconds RetCode: 0 Status: OK PackageFile: demuxSNP_1.2.0.tgz PackageFileSize: 1.975 MiB