Package: demuxSNP Version: 1.2.0 Command: /home/biocbuild/R/R-beta-2024-04-15_r86425/bin/R CMD INSTALL demuxSNP StartedAt: 2024-05-08 20:30:44 -0000 (Wed, 08 May 2024) EndedAt: 2024-05-08 20:31:43 -0000 (Wed, 08 May 2024) EllapsedTime: 58.4 seconds RetCode: 0 Status: OK