Package: demuxSNP Version: 1.2.0 Command: /home/biocbuild/R/R-beta-2024-04-15_r86425/bin/R CMD check --install=check:demuxSNP.install-out.txt --library=/home/biocbuild/R/R-beta-2024-04-15_r86425/site-library --no-vignettes --timings demuxSNP_1.2.0.tar.gz StartedAt: 2024-05-09 06:42:12 -0000 (Thu, 09 May 2024) EndedAt: 2024-05-09 06:53:09 -0000 (Thu, 09 May 2024) EllapsedTime: 657.2 seconds RetCode: 0 Status: OK CheckDir: demuxSNP.Rcheck Warnings: 0