Package: demuxSNP Version: 1.2.0 Command: /Library/Frameworks/R.framework/Resources/bin/R CMD INSTALL demuxSNP StartedAt: 2024-10-16 16:45:39 -0400 (Wed, 16 Oct 2024) EndedAt: 2024-10-16 16:46:31 -0400 (Wed, 16 Oct 2024) EllapsedTime: 52.4 seconds RetCode: 0 Status: OK