Package: deltaCaptureC Version: 1.18.0 Command: E:\biocbuild\bbs-3.19-bioc\R\bin\R.exe CMD INSTALL deltaCaptureC StartedAt: 2024-10-16 16:21:35 -0400 (Wed, 16 Oct 2024) EndedAt: 2024-10-16 16:22:26 -0400 (Wed, 16 Oct 2024) EllapsedTime: 51.0 seconds RetCode: 0 Status: OK