Package: deltaCaptureC Version: 1.18.0 Command: chmod a+r deltaCaptureC -R && E:\biocbuild\bbs-3.19-bioc\R\bin\R.exe CMD build --keep-empty-dirs --no-resave-data deltaCaptureC StartedAt: 2024-10-16 18:37:28 -0400 (Wed, 16 Oct 2024) EndedAt: 2024-10-16 18:39:51 -0400 (Wed, 16 Oct 2024) EllapsedTime: 143.2 seconds RetCode: 0 Status: OK PackageFile: deltaCaptureC_1.18.0.tar.gz PackageFileSize: 326.6 KiB