Package: deltaCaptureC Version: 1.18.0 Command: chmod a+r deltaCaptureC -R && F:\biocbuild\bbs-3.19-bioc\R\bin\R.exe CMD build --keep-empty-dirs --no-resave-data deltaCaptureC StartedAt: 2024-06-26 18:19:34 -0400 (Wed, 26 Jun 2024) EndedAt: 2024-06-26 18:21:41 -0400 (Wed, 26 Jun 2024) EllapsedTime: 127.1 seconds RetCode: 0 Status: OK PackageFile: deltaCaptureC_1.18.0.tar.gz PackageFileSize: 326.7 KiB