Package: deltaCaptureC Version: 1.18.0 Command: rm -rf deltaCaptureC.buildbin-libdir && mkdir deltaCaptureC.buildbin-libdir && F:\biocbuild\bbs-3.19-bioc\R\bin\R.exe CMD INSTALL --build --library=deltaCaptureC.buildbin-libdir deltaCaptureC_1.18.0.tar.gz StartedAt: 2024-06-27 08:06:13 -0400 (Thu, 27 Jun 2024) EndedAt: 2024-06-27 08:07:07 -0400 (Thu, 27 Jun 2024) EllapsedTime: 54.4 seconds RetCode: 0 Status: OK PackageFile: deltaCaptureC_1.18.0.zip PackageFileSize: 596.5 KiB