Package: deltaCaptureC Version: 1.18.0 Command: /home/biocbuild/bbs-3.19-bioc/R/bin/R CMD build --keep-empty-dirs --no-resave-data deltaCaptureC StartedAt: 2024-10-16 18:08:57 -0400 (Wed, 16 Oct 2024) EndedAt: 2024-10-16 18:10:51 -0400 (Wed, 16 Oct 2024) EllapsedTime: 114.2 seconds RetCode: 0 Status: OK PackageFile: deltaCaptureC_1.18.0.tar.gz PackageFileSize: 346.3 KiB