Package: deltaCaptureC Version: 1.18.0 Command: /Library/Frameworks/R.framework/Resources/bin/R CMD check --install=check:deltaCaptureC.install-out.txt --library=/Library/Frameworks/R.framework/Resources/library --no-vignettes --timings deltaCaptureC_1.18.0.tar.gz StartedAt: 2024-10-17 04:04:16 -0400 (Thu, 17 Oct 2024) EndedAt: 2024-10-17 04:17:20 -0400 (Thu, 17 Oct 2024) EllapsedTime: 784.3 seconds RetCode: 0 Status: OK CheckDir: deltaCaptureC.Rcheck Warnings: 0