Package: deltaCaptureC Version: 1.18.0 Command: /Library/Frameworks/R.framework/Resources/bin/R CMD check --install=check:deltaCaptureC.install-out.txt --library=/Library/Frameworks/R.framework/Resources/library --no-vignettes --timings deltaCaptureC_1.18.0.tar.gz StartedAt: 2024-06-09 19:54:42 -0400 (Sun, 09 Jun 2024) EndedAt: 2024-06-09 19:59:59 -0400 (Sun, 09 Jun 2024) EllapsedTime: 317.2 seconds RetCode: 0 Status: OK CheckDir: deltaCaptureC.Rcheck Warnings: 0