Package: deltaCaptureC Version: 1.18.0 Command: /home/biocbuild/R/R-beta-2024-04-15_r86425/bin/R CMD build --keep-empty-dirs --no-resave-data deltaCaptureC StartedAt: 2024-05-08 23:48:41 -0000 (Wed, 08 May 2024) EndedAt: 2024-05-08 23:51:31 -0000 (Wed, 08 May 2024) EllapsedTime: 170.2 seconds RetCode: 0 Status: OK PackageFile: deltaCaptureC_1.18.0.tar.gz PackageFileSize: 331.2 KiB