Package: deltaCaptureC Version: 1.18.0 Command: rm -rf deltaCaptureC.buildbin-libdir && mkdir deltaCaptureC.buildbin-libdir && /Users/biocbuild/BBS/utils/build-universal.sh deltaCaptureC_1.18.0.tar.gz /Library/Frameworks/R.framework/Resources/bin/R deltaCaptureC.buildbin-libdir StartedAt: 2024-10-18 18:08:40 -0400 (Fri, 18 Oct 2024) EndedAt: 2024-10-18 18:09:26 -0400 (Fri, 18 Oct 2024) EllapsedTime: 46.5 seconds RetCode: 0 Status: OK PackageFile: deltaCaptureC_1.18.0.tgz PackageFileSize: 649 KiB