Package: deepSNV Version: 1.50.0 Command: chmod a+r deepSNV -R && F:\biocbuild\bbs-3.19-bioc\R\bin\R.exe CMD build --keep-empty-dirs --no-resave-data deepSNV StartedAt: 2024-06-26 18:15:19 -0400 (Wed, 26 Jun 2024) EndedAt: 2024-06-26 18:17:15 -0400 (Wed, 26 Jun 2024) EllapsedTime: 115.6 seconds RetCode: 0 Status: OK PackageFile: deepSNV_1.50.0.tar.gz PackageFileSize: 2.322 MiB