Package: deepSNV
Version: 1.50.0
Command: /home/biocbuild/R/R-beta-2024-04-15_r86425/bin/R CMD INSTALL deepSNV
StartedAt: 2024-05-08 20:28:17 -0000 (Wed, 08 May 2024)
EndedAt: 2024-05-08 20:29:16 -0000 (Wed, 08 May 2024)
EllapsedTime: 59.5 seconds
RetCode: 0
Status: OK