Package: deepSNV Version: 1.50.0 Command: /Library/Frameworks/R.framework/Resources/bin/R CMD INSTALL deepSNV StartedAt: 2024-10-16 16:39:32 -0400 (Wed, 16 Oct 2024) EndedAt: 2024-10-16 16:40:25 -0400 (Wed, 16 Oct 2024) EllapsedTime: 52.8 seconds RetCode: 0 Status: OK