Package: deepSNV Version: 1.50.0 Command: rm -rf deepSNV.buildbin-libdir && mkdir deepSNV.buildbin-libdir && /Users/biocbuild/BBS/utils/build-universal.sh deepSNV_1.50.0.tar.gz /Library/Frameworks/R.framework/Resources/bin/R deepSNV.buildbin-libdir StartedAt: 2024-10-18 18:06:42 -0400 (Fri, 18 Oct 2024) EndedAt: 2024-10-18 18:07:51 -0400 (Fri, 18 Oct 2024) EllapsedTime: 69.5 seconds RetCode: 0 Status: OK PackageFile: deepSNV_1.50.0.tgz PackageFileSize: 3.31 MiB