Package: decoupleR Version: 2.10.0 Command: E:\biocbuild\bbs-3.19-bioc\R\bin\R.exe CMD check --no-multiarch --install=check:decoupleR.install-out.txt --library=E:\biocbuild\bbs-3.19-bioc\R\library --no-vignettes --timings decoupleR_2.10.0.tar.gz StartedAt: 2024-10-17 00:40:04 -0400 (Thu, 17 Oct 2024) EndedAt: 2024-10-17 01:20:05 -0400 (Thu, 17 Oct 2024) EllapsedTime: 2400.8 seconds RetCode: None Status: TIMEOUT CheckDir: decoupleR.Rcheck Warnings: NA