Package: decoupleR Version: 2.10.0 Command: /home/biocbuild/bbs-3.19-bioc/R/bin/R CMD build --keep-empty-dirs --no-resave-data decoupleR StartedAt: 2024-10-16 18:06:28 -0400 (Wed, 16 Oct 2024) EndedAt: 2024-10-16 18:11:45 -0400 (Wed, 16 Oct 2024) EllapsedTime: 316.6 seconds RetCode: 0 Status: OK PackageFile: decoupleR_2.10.0.tar.gz PackageFileSize: 4.802 MiB