Package: decoupleR Version: 2.10.0 Command: rm -rf decoupleR.buildbin-libdir && mkdir decoupleR.buildbin-libdir && /Users/biocbuild/BBS/utils/build-universal.sh decoupleR_2.10.0.tar.gz /Library/Frameworks/R.framework/Resources/bin/R decoupleR.buildbin-libdir StartedAt: 2024-10-14 15:54:18 -0400 (Mon, 14 Oct 2024) EndedAt: 2024-10-14 15:54:43 -0400 (Mon, 14 Oct 2024) EllapsedTime: 25.0 seconds RetCode: 0 Status: OK PackageFile: decoupleR_2.10.0.tgz PackageFileSize: 5.134 MiB