Package: decoupleR Version: 2.10.0 Command: rm -rf decoupleR.buildbin-libdir && mkdir decoupleR.buildbin-libdir && /Users/biocbuild/BBS/utils/build-universal.sh decoupleR_2.10.0.tar.gz /Library/Frameworks/R.framework/Resources/bin/R decoupleR.buildbin-libdir StartedAt: 2024-05-30 01:00:51 -0400 (Thu, 30 May 2024) EndedAt: 2024-05-30 01:01:07 -0400 (Thu, 30 May 2024) EllapsedTime: 16.2 seconds RetCode: 0 Status: OK PackageFile: decoupleR_2.10.0.tgz PackageFileSize: 5.135 MiB