Package: decoupleR Version: 2.10.0 Command: /home/biocbuild/R/R-beta-2024-04-15_r86425/bin/R CMD build --keep-empty-dirs --no-resave-data decoupleR StartedAt: 2024-05-08 23:45:50 -0000 (Wed, 08 May 2024) EndedAt: 2024-05-08 23:54:58 -0000 (Wed, 08 May 2024) EllapsedTime: 547.7 seconds RetCode: 0 Status: OK PackageFile: decoupleR_2.10.0.tar.gz PackageFileSize: 4.614 MiB