Package: deconvR Version: 1.10.0 Command: rm -rf deconvR.buildbin-libdir && mkdir deconvR.buildbin-libdir && E:\biocbuild\bbs-3.19-bioc\R\bin\R.exe CMD INSTALL --build --library=deconvR.buildbin-libdir deconvR_1.10.0.tar.gz StartedAt: 2024-10-17 07:39:26 -0400 (Thu, 17 Oct 2024) EndedAt: 2024-10-17 07:40:18 -0400 (Thu, 17 Oct 2024) EllapsedTime: 52.6 seconds RetCode: 0 Status: OK PackageFile: deconvR_1.10.0.zip PackageFileSize: 3.817 MiB