Package: decontam Version: 1.24.0 Command: E:\biocbuild\bbs-3.19-bioc\R\bin\R.exe CMD INSTALL decontam StartedAt: 2024-10-16 16:08:25 -0400 (Wed, 16 Oct 2024) EndedAt: 2024-10-16 16:08:33 -0400 (Wed, 16 Oct 2024) EllapsedTime: 7.8 seconds RetCode: 0 Status: OK