Package: decontam Version: 1.24.0 Command: E:\biocbuild\bbs-3.19-bioc\R\bin\R.exe CMD check --no-multiarch --install=check:decontam.install-out.txt --library=E:\biocbuild\bbs-3.19-bioc\R\library --no-vignettes --timings decontam_1.24.0.tar.gz StartedAt: 2024-10-17 00:39:31 -0400 (Thu, 17 Oct 2024) EndedAt: 2024-10-17 00:40:26 -0400 (Thu, 17 Oct 2024) EllapsedTime: 55.1 seconds RetCode: 0 Status: OK CheckDir: decontam.Rcheck Warnings: 0