Package: decontam Version: 1.24.0 Command: chmod a+r decontam -R && E:\biocbuild\bbs-3.19-bioc\R\bin\R.exe CMD build --keep-empty-dirs --no-resave-data decontam StartedAt: 2024-10-16 18:33:56 -0400 (Wed, 16 Oct 2024) EndedAt: 2024-10-16 18:34:41 -0400 (Wed, 16 Oct 2024) EllapsedTime: 45.1 seconds RetCode: 0 Status: OK PackageFile: decontam_1.24.0.tar.gz PackageFileSize: 465.1 KiB