Package: decontam Version: 1.24.0 Command: rm -rf decontam.buildbin-libdir && mkdir decontam.buildbin-libdir && E:\biocbuild\bbs-3.19-bioc\R\bin\R.exe CMD INSTALL --build --library=decontam.buildbin-libdir decontam_1.24.0.tar.gz StartedAt: 2024-10-17 07:39:21 -0400 (Thu, 17 Oct 2024) EndedAt: 2024-10-17 07:39:32 -0400 (Thu, 17 Oct 2024) EllapsedTime: 10.4 seconds RetCode: 0 Status: OK PackageFile: decontam_1.24.0.zip PackageFileSize: 503.9 KiB