Package: decontam Version: 1.24.0 Command: chmod a+r decontam -R && F:\biocbuild\bbs-3.19-bioc\R\bin\R.exe CMD build --keep-empty-dirs --no-resave-data decontam StartedAt: 2024-06-26 18:13:58 -0400 (Wed, 26 Jun 2024) EndedAt: 2024-06-26 18:14:35 -0400 (Wed, 26 Jun 2024) EllapsedTime: 36.4 seconds RetCode: 0 Status: OK PackageFile: decontam_1.24.0.tar.gz PackageFileSize: 465.1 KiB