Package: decontam Version: 1.24.0 Command: /Library/Frameworks/R.framework/Resources/bin/R CMD check --install=check:decontam.install-out.txt --library=/Library/Frameworks/R.framework/Resources/library --no-vignettes --timings decontam_1.24.0.tar.gz StartedAt: 2024-10-17 03:56:04 -0400 (Thu, 17 Oct 2024) EndedAt: 2024-10-17 03:57:55 -0400 (Thu, 17 Oct 2024) EllapsedTime: 110.8 seconds RetCode: 0 Status: OK CheckDir: decontam.Rcheck Warnings: 0